View In:
ArcGIS JavaScript
ArcGIS Online Map Viewer
ArcGIS Earth
ArcGIS Pro
Service Description: Barbour
Map Name: BarbourCapture
Legend
All Layers and Tables
Dynamic Legend
Dynamic All Layers
Layers:
Description: Barbour
Copyright Text:
Spatial Reference:
102100
(3857)
Single Fused Map Cache: true
Tile Info:
- Height: 256.0
- Width: 256.0
- DPI: 96.0
-
Levels of Detail: 10
-
Level ID: 0
[ Start Tile, End Tile ]
- Resolution: 152.874056570411
- Scale: 577790.55428899999
-
Level ID: 1
[ Start Tile, End Tile ]
- Resolution: 76.437028285073197
- Scale: 288895.27714399999
-
Level ID: 3
[ Start Tile, End Tile ]
- Resolution: 19.109257071268299
- Scale: 72223.819285999998
-
Level ID: 4
[ Start Tile, End Tile ]
- Resolution: 9.5546285356341496
- Scale: 36111.909642999999
-
Level ID: 6
[ Start Tile, End Tile ]
- Resolution: 2.38865713397468
- Scale: 9027.9774109999998
-
Level ID: 7
[ Start Tile, End Tile ]
- Resolution: 1.1943285668550501
- Scale: 4513.9887049999998
-
Level ID: 9
[ Start Tile, End Tile ]
- Resolution: 0.29858214164761698
- Scale: 1128.4971760000001
- Format: PNG8
- Compression Quality: 0.0
- Origin: X: -2.0037508342787E7
Y: 2.0037508342787E7
- Spatial Reference: 102100
(3857)
Storage Info:
- Storage Format: esriMapCacheStorageModeCompactV2
- Packet Size: 128
Initial Extent:
XMin: -9499478.546481667
YMin: 3746257.7150924182
XMax: -9498608.857893536
YMax: 3746817.107972084
Spatial Reference: 102100
Full Extent:
XMin: -9546354.137455203
YMin: 3712917.2037679176
XMax: -9465954.342993615
YMax: 3783053.1349074394
Spatial Reference: 102100
Units: esriMeters
Supported Image Format Types: PNG32,PNG24,PNG,JPG,DIB,TIFF,EMF,PS,PDF,GIF,SVG,SVGZ,BMP
Document Info:
Title: Geneva
Author:
Comments: Barbour
Subject: Barbour
Category:
Keywords: Barbour,Alabama; Parcel Viewer; Capture
AntialiasingMode: Fast
TextAntialiasingMode: Force
Supports Dynamic Layers: true
MaxRecordCount: 2000
MaxSelectionCount: 2000
MaxImageHeight: 4096
MaxImageWidth: 4096
Supported Query Formats: JSON, geoJSON, PBF
Supports Query Data Elements: true
Min Scale: 577790.55428899999
Max Scale: 1128.4971760000001
Min LOD: 0
Max LOD: 9
Supports Datum Transformation: true
Child Resources:
Info
Dynamic Layer
Supported Operations:
Export Map
Identify
QueryLegends
QueryDomains
Find
Return Updates