{
 "maxImageWidth": 4096,
 "maxRecordCount": 2000,
 "tileInfo": {
  "lods": [
   {
    "level": 0,
    "scale": 577790.55428899999,
    "resolution": 152.874056570411
   },
   {
    "level": 1,
    "scale": 288895.27714399999,
    "resolution": 76.437028285073197
   },
   {
    "level": 2,
    "scale": 144447.638572,
    "resolution": 38.218514142536598
   },
   {
    "level": 3,
    "scale": 72223.819285999998,
    "resolution": 19.109257071268299
   },
   {
    "level": 4,
    "scale": 36111.909642999999,
    "resolution": 9.5546285356341496
   },
   {
    "level": 5,
    "scale": 18055.954822,
    "resolution": 4.7773142679493699
   },
   {
    "level": 6,
    "scale": 9027.9774109999998,
    "resolution": 2.38865713397468
   },
   {
    "level": 7,
    "scale": 4513.9887049999998,
    "resolution": 1.1943285668550501
   },
   {
    "level": 8,
    "scale": 2256.994353,
    "resolution": 0.59716428355981699
   },
   {
    "level": 9,
    "scale": 1128.4971760000001,
    "resolution": 0.29858214164761698
   }
  ],
  "origin": {
   "x": -20037508.342787001,
   "y": 20037508.342787001
  },
  "format": "PNG8",
  "compressionQuality": 0,
  "rows": 256,
  "dpi": 96,
  "spatialReference": {
   "falseM": -100000,
   "xyTolerance": 0.001,
   "mUnits": 10000,
   "zUnits": 10000,
   "latestWkid": 3857,
   "zTolerance": 0.001,
   "wkid": 102100,
   "xyUnits": 10000,
   "mTolerance": 0.001,
   "falseX": -20037700,
   "falseY": -30241100,
   "falseZ": -100000
  },
  "cols": 256
 },
 "datesInUnknownTimezone": false,
 "supportsQueryDomains": true,
 "maxSelectionCount": 2000,
 "supportedImageFormatTypes": "PNG32,PNG24,PNG,JPG,DIB,TIFF,EMF,PS,PDF,GIF,SVG,SVGZ,BMP",
 "spatialReferenceType": "pcs",
 "maxImageHeight": 4096,
 "tables": [],
 "cimVersion": "3.7.0",
 "layers": [
  {
   "subLayerIds": null,
   "maxScale": 0,
   "name": "WaterRoadMisc",
   "defaultVisibility": true,
   "id": 0,
   "minScale": 577790.55428899999,
   "supportsDynamicLegends": true,
   "type": "Feature Layer",
   "parentLayerId": -1,
   "geometryType": "esriGeometryPolygon"
  },
  {
   "subLayerIds": null,
   "maxScale": 0,
   "name": "CountyRoads",
   "defaultVisibility": true,
   "id": 1,
   "minScale": 0,
   "supportsDynamicLegends": true,
   "type": "Feature Layer",
   "parentLayerId": -1,
   "geometryType": "esriGeometryPolyline"
  },
  {
   "subLayerIds": null,
   "maxScale": 0,
   "name": "BuildingFootprints",
   "defaultVisibility": true,
   "id": 2,
   "minScale": 36111.909642999999,
   "supportsDynamicLegends": true,
   "type": "Feature Layer",
   "parentLayerId": -1,
   "geometryType": "esriGeometryPolygon"
  },
  {
   "subLayerIds": null,
   "maxScale": 0,
   "name": "Easement",
   "defaultVisibility": true,
   "id": 3,
   "minScale": 72223.819285999998,
   "supportsDynamicLegends": true,
   "type": "Feature Layer",
   "parentLayerId": -1,
   "geometryType": "esriGeometryPolygon"
  },
  {
   "subLayerIds": null,
   "maxScale": 0,
   "name": "Taxlots",
   "defaultVisibility": true,
   "id": 4,
   "minScale": 72223.819285999998,
   "supportsDynamicLegends": true,
   "type": "Feature Layer",
   "parentLayerId": -1,
   "geometryType": "esriGeometryPolygon"
  },
  {
   "subLayerIds": null,
   "maxScale": 0,
   "name": "CityLimits",
   "defaultVisibility": true,
   "id": 5,
   "minScale": 0,
   "supportsDynamicLegends": true,
   "type": "Feature Layer",
   "parentLayerId": -1,
   "geometryType": "esriGeometryPolygon"
  },
  {
   "subLayerIds": null,
   "maxScale": 0,
   "name": "CountyBoundary",
   "defaultVisibility": true,
   "id": 6,
   "minScale": 0,
   "supportsDynamicLegends": true,
   "type": "Feature Layer",
   "parentLayerId": -1,
   "geometryType": "esriGeometryPolygon"
  }
 ],
 "archivingInfo": {
  "supportsHistoricMoment": false
 },
 "spatialReferenceDomain": {
  "ymin": -30241100,
  "xmin": -20037700,
  "ymax": 900689684374.099,
  "xmax": 900699887774.099
 },
 "spatialReference": {
  "falseM": -100000,
  "xyTolerance": 0.001,
  "mUnits": 10000,
  "zUnits": 10000,
  "latestWkid": 3857,
  "zTolerance": 0.001,
  "wkid": 102100,
  "xyUnits": 10000,
  "mTolerance": 0.001,
  "falseX": -20037700,
  "falseY": -30241100,
  "falseZ": -100000
 },
 "fullExtent": {
  "ymin": 5786052.9626750266,
  "xmin": -13530006.646918098,
  "ymax": 5957004.4400241198,
  "xmax": -13342027.103352357,
  "spatialReference": {
   "cs": "pcs",
   "wkid": 102100
  }
 },
 "currentVersion": 12.1,
 "hasBranchVersionedData": false,
 "referenceScale": 0,
 "supportsSpatialFilter": true,
 "maxLOD": 9,
 "initialExtent": {
  "ymin": 5846825.2928514676,
  "xmin": -13457340.222306244,
  "ymax": 5887493.95011565,
  "xmax": -13394112.626098081,
  "spatialReference": {
   "cs": "pcs",
   "wkid": 102100
  }
 },
 "supportsTimeRelation": true,
 "documentInfo": {
  "Category": "",
  "Keywords": "Yakima,Washington,Parcel Viewer",
  "Version": "3.7.0",
  "Comments": "Yakima County WA Map Service to be used in Capture. ",
  "AntialiasingMode": "Fast",
  "Title": "YakimaCapture",
  "Author": "",
  "TextAntialiasingMode": "Force",
  "Subject": "Yakima County WA Map Service to be used in Capture"
 },
 "wmtsScaleFactor": 0.00028000000000003521,
 "geoFullExtent": {
  "ymin": 46.035581172869527,
  "xmin": -121.54211765165245,
  "ymax": 47.091392536755663,
  "xmax": -119.85346868078328
 },
 "description": "Yakima County WA Map Service to be used in Capture. ",
 "units": "esriMeters",
 "supportsClipping": true,
 "exportTilesAllowed": false,
 "hasVersionedData": false,
 "supportsDatumTransformation": true,
 "supportsQueryDataElements": true,
 "mapName": "YakimaCapture",
 "minScale": 577790.55428899999,
 "tileImageInfo": {
  "bandCount": 1,
  "lercError": 0,
  "format": "PNG8",
  "compressionQuality": 0
 },
 "supportedExtensions": "",
 "capabilities": "Query,Map,Data,Tilemap",
 "supportsDynamicLayers": true,
 "maxScale": 1128.4971760000001,
 "singleFusedMapCache": true,
 "storageInfo": {
  "storageFormat": "esriMapCacheStorageModeCompactV2",
  "packetSize": 128
 },
 "mapUnits": {
  "uwkid": 9001
 },
 "minLOD": 0,
 "supportedQueryFormats": "JSON, geoJSON, PBF",
 "datumTransformations": [
  {
   "geoTransforms": [
    {
     "latestWkid": 108190,
     "transformForward": true,
     "wkid": 108190,
     "name": "WGS_1984_(ITRF00)_To_NAD_1983"
    }
   ]
  },
  {
   "geoTransforms": [
    {
     "latestWkid": 108363,
     "transformForward": false,
     "wkid": 108363,
     "name": "WGS_1984_(ITRF08)_To_NAD_1983_2011"
    },
    {
     "latestWkid": 108190,
     "transformForward": true,
     "wkid": 108190,
     "name": "WGS_1984_(ITRF00)_To_NAD_1983"
    }
   ]
  },
  {
   "geoTransforms": [
    {
     "latestWkid": 108190,
     "transformForward": false,
     "wkid": 108190,
     "name": "WGS_1984_(ITRF00)_To_NAD_1983"
    }
   ]
  }
 ],
 "serviceDescription": " Yakima County WA Map Service to be used in Capture. <\/span><\/p><\/div>",
 "copyrightText": "",
 "geoInitialExtent": {
  "ymin": 46.413270722183178,
  "xmin": -120.88934405294098,
  "ymax": 46.664568483990415,
  "xmax": -120.32136089242169
 }
}
