{
 "maxImageWidth": 4096,
 "maxRecordCount": 2000,
 "tileInfo": {
  "lods": [
   {
    "level": 0,
    "scale": 577790.55428899999,
    "resolution": 152.874056570411
   },
   {
    "level": 1,
    "scale": 288895.27714399999,
    "resolution": 76.437028285073197
   },
   {
    "level": 2,
    "scale": 144447.638572,
    "resolution": 38.218514142536598
   },
   {
    "level": 3,
    "scale": 72223.819285999998,
    "resolution": 19.109257071268299
   },
   {
    "level": 4,
    "scale": 36111.909642999999,
    "resolution": 9.5546285356341496
   },
   {
    "level": 5,
    "scale": 18055.954822,
    "resolution": 4.7773142679493699
   },
   {
    "level": 6,
    "scale": 9027.9774109999998,
    "resolution": 2.38865713397468
   },
   {
    "level": 7,
    "scale": 4513.9887049999998,
    "resolution": 1.1943285668550501
   },
   {
    "level": 8,
    "scale": 2256.994353,
    "resolution": 0.59716428355981699
   },
   {
    "level": 9,
    "scale": 1128.4971760000001,
    "resolution": 0.29858214164761698
   }
  ],
  "origin": {
   "x": -20037508.342787001,
   "y": 20037508.342787001
  },
  "format": "PNG8",
  "compressionQuality": 0,
  "rows": 256,
  "dpi": 96,
  "spatialReference": {
   "falseM": -100000,
   "xyTolerance": 0.001,
   "mUnits": 10000,
   "zUnits": 10000,
   "latestWkid": 3857,
   "zTolerance": 0.001,
   "wkid": 102100,
   "xyUnits": 10000,
   "mTolerance": 0.001,
   "falseX": -20037700,
   "falseY": -30241100,
   "falseZ": -100000
  },
  "cols": 256
 },
 "datesInUnknownTimezone": false,
 "supportsQueryDomains": true,
 "maxSelectionCount": 2000,
 "supportedImageFormatTypes": "PNG32,PNG24,PNG,JPG,DIB,TIFF,EMF,PS,PDF,GIF,SVG,SVGZ,BMP",
 "spatialReferenceType": "pcs",
 "maxImageHeight": 4096,
 "tables": [],
 "cimVersion": "3.7.0",
 "layers": [
  {
   "subLayerIds": [
    1,
    2,
    3
   ],
   "maxScale": 0,
   "name": "Acerage Annotation",
   "defaultVisibility": true,
   "id": 0,
   "minScale": 5000,
   "supportsDynamicLegends": false,
   "type": "Annotation Layer",
   "parentLayerId": -1,
   "geometryType": "esriGeometryPolygon"
  },
  {
   "subLayerIds": null,
   "maxScale": 0,
   "name": "ParcelAcreageText_Anno_100",
   "defaultVisibility": true,
   "id": 1,
   "minScale": 0,
   "supportsDynamicLegends": false,
   "parentLayerId": 0
  },
  {
   "subLayerIds": null,
   "maxScale": 0,
   "name": "ParcelAcreageText_Anno_200",
   "defaultVisibility": true,
   "id": 2,
   "minScale": 0,
   "supportsDynamicLegends": false,
   "parentLayerId": 0
  },
  {
   "subLayerIds": null,
   "maxScale": 0,
   "name": "ParcelAcreageText_Anno_400",
   "defaultVisibility": true,
   "id": 3,
   "minScale": 0,
   "supportsDynamicLegends": false,
   "parentLayerId": 0
  },
  {
   "subLayerIds": [
    5,
    6,
    7
   ],
   "maxScale": 0,
   "name": "Parcel Number Annotation",
   "defaultVisibility": true,
   "id": 4,
   "minScale": 5000,
   "supportsDynamicLegends": false,
   "type": "Annotation Layer",
   "parentLayerId": -1,
   "geometryType": "esriGeometryPolygon"
  },
  {
   "subLayerIds": null,
   "maxScale": 0,
   "name": "ParcelNumbers_Anno_100",
   "defaultVisibility": true,
   "id": 5,
   "minScale": 0,
   "supportsDynamicLegends": false,
   "parentLayerId": 4
  },
  {
   "subLayerIds": null,
   "maxScale": 0,
   "name": "ParcelNumbers_Anno_200",
   "defaultVisibility": true,
   "id": 6,
   "minScale": 0,
   "supportsDynamicLegends": false,
   "parentLayerId": 4
  },
  {
   "subLayerIds": null,
   "maxScale": 0,
   "name": "ParcelNumbers_Anno_400",
   "defaultVisibility": true,
   "id": 7,
   "minScale": 0,
   "supportsDynamicLegends": false,
   "parentLayerId": 4
  },
  {
   "subLayerIds": [
    9,
    10,
    11
   ],
   "maxScale": 0,
   "name": "Subdivision Annotation",
   "defaultVisibility": true,
   "id": 8,
   "minScale": 5000,
   "supportsDynamicLegends": false,
   "type": "Annotation Layer",
   "parentLayerId": -1,
   "geometryType": "esriGeometryPolygon"
  },
  {
   "subLayerIds": null,
   "maxScale": 0,
   "name": "SubdivisionNameText_Anno_100",
   "defaultVisibility": true,
   "id": 9,
   "minScale": 0,
   "supportsDynamicLegends": false,
   "parentLayerId": 8
  },
  {
   "subLayerIds": null,
   "maxScale": 0,
   "name": "SubdivisionNameText_Anno_200",
   "defaultVisibility": true,
   "id": 10,
   "minScale": 0,
   "supportsDynamicLegends": false,
   "parentLayerId": 8
  },
  {
   "subLayerIds": null,
   "maxScale": 0,
   "name": "SubdivisionNameText_Anno_400",
   "defaultVisibility": true,
   "id": 11,
   "minScale": 0,
   "supportsDynamicLegends": false,
   "parentLayerId": 8
  },
  {
   "subLayerIds": [
    13,
    14,
    15
   ],
   "maxScale": 0,
   "name": "Lot Number Annotation",
   "defaultVisibility": false,
   "id": 12,
   "minScale": 5000,
   "supportsDynamicLegends": false,
   "type": "Annotation Layer",
   "parentLayerId": -1,
   "geometryType": "esriGeometryPolygon"
  },
  {
   "subLayerIds": null,
   "maxScale": 0,
   "name": "LotNumbers_Anno_100",
   "defaultVisibility": true,
   "id": 13,
   "minScale": 0,
   "supportsDynamicLegends": false,
   "parentLayerId": 12
  },
  {
   "subLayerIds": null,
   "maxScale": 0,
   "name": "LotNumbers_Anno_200",
   "defaultVisibility": true,
   "id": 14,
   "minScale": 0,
   "supportsDynamicLegends": false,
   "parentLayerId": 12
  },
  {
   "subLayerIds": null,
   "maxScale": 0,
   "name": "LotNumbers_Anno_400",
   "defaultVisibility": true,
   "id": 15,
   "minScale": 0,
   "supportsDynamicLegends": false,
   "parentLayerId": 12
  },
  {
   "subLayerIds": [
    17,
    18,
    19,
    20
   ],
   "maxScale": 0,
   "name": "Parcel Dimension Annotation",
   "defaultVisibility": true,
   "id": 16,
   "minScale": 5000,
   "supportsDynamicLegends": false,
   "type": "Annotation Layer",
   "parentLayerId": -1,
   "geometryType": "esriGeometryPolygon"
  },
  {
   "subLayerIds": null,
   "maxScale": 0,
   "name": "ParcelDimensions",
   "defaultVisibility": true,
   "id": 17,
   "minScale": 0,
   "supportsDynamicLegends": false,
   "parentLayerId": 16
  },
  {
   "subLayerIds": null,
   "maxScale": 0,
   "name": "ParcelDims_100",
   "defaultVisibility": true,
   "id": 18,
   "minScale": 0,
   "supportsDynamicLegends": false,
   "parentLayerId": 16
  },
  {
   "subLayerIds": null,
   "maxScale": 0,
   "name": "ParcelDims_200",
   "defaultVisibility": true,
   "id": 19,
   "minScale": 0,
   "supportsDynamicLegends": false,
   "parentLayerId": 16
  },
  {
   "subLayerIds": null,
   "maxScale": 0,
   "name": "ParcelDims_400",
   "defaultVisibility": true,
   "id": 20,
   "minScale": 0,
   "supportsDynamicLegends": false,
   "parentLayerId": 16
  },
  {
   "subLayerIds": [
    22,
    23,
    24
   ],
   "maxScale": 0,
   "name": "Subdivision Block Annotation",
   "defaultVisibility": true,
   "id": 21,
   "minScale": 5000,
   "supportsDynamicLegends": false,
   "type": "Annotation Layer",
   "parentLayerId": -1,
   "geometryType": "esriGeometryPolygon"
  },
  {
   "subLayerIds": null,
   "maxScale": 0,
   "name": "SubdivisionBlockText_Anno_100",
   "defaultVisibility": true,
   "id": 22,
   "minScale": 0,
   "supportsDynamicLegends": false,
   "parentLayerId": 21
  },
  {
   "subLayerIds": null,
   "maxScale": 0,
   "name": "SubdivisionBlockText_Anno_200",
   "defaultVisibility": true,
   "id": 23,
   "minScale": 0,
   "supportsDynamicLegends": false,
   "parentLayerId": 21
  },
  {
   "subLayerIds": null,
   "maxScale": 0,
   "name": "SubdivisionBlockText_Anno_400",
   "defaultVisibility": true,
   "id": 24,
   "minScale": 0,
   "supportsDynamicLegends": false,
   "parentLayerId": 21
  },
  {
   "subLayerIds": null,
   "maxScale": 0,
   "name": "Lot Boundary",
   "defaultVisibility": false,
   "id": 25,
   "minScale": 0,
   "supportsDynamicLegends": true,
   "type": "Feature Layer",
   "parentLayerId": -1,
   "geometryType": "esriGeometryPolyline"
  },
  {
   "subLayerIds": null,
   "maxScale": 0,
   "name": "Parcel Number Leader Line",
   "defaultVisibility": true,
   "id": 26,
   "minScale": 9999.9999999999509,
   "supportsDynamicLegends": true,
   "type": "Feature Layer",
   "parentLayerId": -1,
   "geometryType": "esriGeometryPolyline"
  },
  {
   "subLayerIds": null,
   "maxScale": 0,
   "name": "Subdivision Name Leader Line",
   "defaultVisibility": true,
   "id": 27,
   "minScale": 9999.9999999999509,
   "supportsDynamicLegends": true,
   "type": "Feature Layer",
   "parentLayerId": -1,
   "geometryType": "esriGeometryPolyline"
  },
  {
   "subLayerIds": null,
   "maxScale": 0,
   "name": "Lot Number Leader Line",
   "defaultVisibility": true,
   "id": 28,
   "minScale": 9999.9999999999509,
   "supportsDynamicLegends": true,
   "type": "Feature Layer",
   "parentLayerId": -1,
   "geometryType": "esriGeometryPolyline"
  },
  {
   "subLayerIds": null,
   "maxScale": 0,
   "name": "Parcel Dimension Leader Line",
   "defaultVisibility": true,
   "id": 29,
   "minScale": 9999.9999999999509,
   "supportsDynamicLegends": true,
   "type": "Feature Layer",
   "parentLayerId": -1,
   "geometryType": "esriGeometryPolyline"
  },
  {
   "subLayerIds": null,
   "maxScale": 0,
   "name": "Subdivision Boundary",
   "defaultVisibility": false,
   "id": 30,
   "minScale": 9999.9999999999509,
   "supportsDynamicLegends": true,
   "type": "Feature Layer",
   "parentLayerId": -1,
   "geometryType": "esriGeometryPolyline"
  },
  {
   "subLayerIds": null,
   "maxScale": 0,
   "name": "Dashed Subdivision Boundary",
   "defaultVisibility": true,
   "id": 31,
   "minScale": 9999.9999999999509,
   "supportsDynamicLegends": true,
   "type": "Feature Layer",
   "parentLayerId": -1,
   "geometryType": "esriGeometryPolyline"
  },
  {
   "subLayerIds": null,
   "maxScale": 0,
   "name": "Lot Boundary",
   "defaultVisibility": false,
   "id": 32,
   "minScale": 9999.9999999999509,
   "supportsDynamicLegends": true,
   "type": "Feature Layer",
   "parentLayerId": -1,
   "geometryType": "esriGeometryPolyline"
  },
  {
   "subLayerIds": null,
   "maxScale": 0,
   "name": "Rights of Way",
   "defaultVisibility": true,
   "id": 33,
   "minScale": 0,
   "supportsDynamicLegends": true,
   "type": "Feature Layer",
   "parentLayerId": -1,
   "geometryType": "esriGeometryPolygon"
  },
  {
   "subLayerIds": null,
   "maxScale": 0,
   "name": "Subdivision",
   "defaultVisibility": false,
   "id": 34,
   "minScale": 9999.9999999999509,
   "supportsDynamicLegends": true,
   "type": "Feature Layer",
   "parentLayerId": -1,
   "geometryType": "esriGeometryPolygon"
  },
  {
   "subLayerIds": null,
   "maxScale": 0,
   "name": "Lot",
   "defaultVisibility": false,
   "id": 35,
   "minScale": 9999.9999999999509,
   "supportsDynamicLegends": true,
   "type": "Feature Layer",
   "parentLayerId": -1,
   "geometryType": "esriGeometryPolygon"
  },
  {
   "subLayerIds": null,
   "maxScale": 0,
   "name": "Tax Parcels",
   "defaultVisibility": true,
   "id": 36,
   "minScale": 29999.999999999847,
   "supportsDynamicLegends": true,
   "type": "Feature Layer",
   "parentLayerId": -1,
   "geometryType": "esriGeometryPolygon"
  }
 ],
 "archivingInfo": {
  "supportsHistoricMoment": false
 },
 "spatialReferenceDomain": {
  "ymin": -30241100,
  "xmin": -20037700,
  "ymax": 900689684374.099,
  "xmax": 900699887774.099
 },
 "spatialReference": {
  "falseM": -100000,
  "xyTolerance": 0.001,
  "mUnits": 10000,
  "zUnits": 10000,
  "latestWkid": 3857,
  "zTolerance": 0.001,
  "wkid": 102100,
  "xyUnits": 10000,
  "mTolerance": 0.001,
  "falseX": -20037700,
  "falseY": -30241100,
  "falseZ": -100000
 },
 "fullExtent": {
  "ymin": 3528432.5146793486,
  "zmin": -2552.9134999999951,
  "xmin": -9844326.4278704431,
  "ymax": 3655302.4048568001,
  "zmax": 1119.2897999999986,
  "xmax": -9787646.577842867,
  "spatialReference": {
   "cs": "pcs",
   "wkid": 102100
  }
 },
 "currentVersion": 12.1,
 "hasBranchVersionedData": false,
 "referenceScale": 0,
 "supportsSpatialFilter": true,
 "maxLOD": 9,
 "initialExtent": {
  "ymin": 3512591.0844357964,
  "xmin": -9940420.6327071041,
  "ymax": 3690082.0364670493,
  "xmax": -9719797.470827397,
  "spatialReference": {
   "cs": "pcs",
   "wkid": 102100
  }
 },
 "supportsTimeRelation": true,
 "documentInfo": {
  "Category": "",
  "Keywords": "Mobile,Alabama,Parcel Viewer",
  "Version": "3.7.0",
  "Comments": "temp",
  "AntialiasingMode": "Fast",
  "Title": "Untitled.aprx",
  "Author": "",
  "TextAntialiasingMode": "Force",
  "Subject": "temp"
 },
 "wmtsScaleFactor": 0.00028000000000003521,
 "geoFullExtent": {
  "ymin": 30.193389144677447,
  "zmin": -2552.9134999999951,
  "xmin": -88.433088920177511,
  "ymax": 31.173503271875393,
  "zmax": 1119.2897999999986,
  "xmax": -87.92392516436378
 },
 "description": "temp",
 "units": "esriMeters",
 "supportsClipping": true,
 "exportTilesAllowed": false,
 "hasVersionedData": false,
 "supportsDatumTransformation": true,
 "supportsQueryDataElements": true,
 "mapName": "MobileCapture",
 "minScale": 577790.55428899999,
 "tileImageInfo": {
  "bandCount": 1,
  "lercError": 0,
  "format": "PNG8",
  "compressionQuality": 0
 },
 "supportedExtensions": "",
 "capabilities": "Map,Query,Data,Tilemap",
 "supportsDynamicLayers": true,
 "maxScale": 1128.4971760000001,
 "singleFusedMapCache": true,
 "storageInfo": {
  "storageFormat": "esriMapCacheStorageModeCompactV2",
  "packetSize": 128
 },
 "mapUnits": {
  "uwkid": 9001
 },
 "minLOD": 0,
 "supportedQueryFormats": "JSON, geoJSON, PBF",
 "datumTransformations": [
  {
   "geoTransforms": [
    {
     "latestWkid": 108190,
     "transformForward": false,
     "wkid": 108190,
     "name": "WGS_1984_(ITRF00)_To_NAD_1983"
    }
   ]
  }
 ],
 "serviceDescription": "temp",
 "copyrightText": "",
 "geoInitialExtent": {
  "ymin": 30.07031264835495,
  "xmin": -89.296317849378354,
  "ymax": 31.440442306764609,
  "xmax": -87.314426265905198
 }
}
