{
 "maxImageWidth": 4096,
 "maxRecordCount": 2000,
 "tileInfo": {
  "lods": [
   {
    "level": 0,
    "scale": 577790.55428899999,
    "resolution": 152.874056570411
   },
   {
    "level": 1,
    "scale": 288895.27714399999,
    "resolution": 76.437028285073197
   },
   {
    "level": 2,
    "scale": 144447.638572,
    "resolution": 38.218514142536598
   },
   {
    "level": 3,
    "scale": 72223.819285999998,
    "resolution": 19.109257071268299
   },
   {
    "level": 4,
    "scale": 36111.909642999999,
    "resolution": 9.5546285356341496
   },
   {
    "level": 5,
    "scale": 18055.954822,
    "resolution": 4.7773142679493699
   },
   {
    "level": 6,
    "scale": 9027.9774109999998,
    "resolution": 2.38865713397468
   },
   {
    "level": 7,
    "scale": 4513.9887049999998,
    "resolution": 1.1943285668550501
   },
   {
    "level": 8,
    "scale": 2256.994353,
    "resolution": 0.59716428355981699
   },
   {
    "level": 9,
    "scale": 1128.4971760000001,
    "resolution": 0.29858214164761698
   }
  ],
  "origin": {
   "x": -20037508.342787001,
   "y": 20037508.342787001
  },
  "format": "PNG8",
  "compressionQuality": 0,
  "rows": 256,
  "dpi": 96,
  "spatialReference": {
   "falseM": -100000,
   "xyTolerance": 0.001,
   "mUnits": 10000,
   "zUnits": 10000,
   "latestWkid": 3857,
   "zTolerance": 0.001,
   "wkid": 102100,
   "xyUnits": 10000,
   "mTolerance": 0.001,
   "falseX": -20037700,
   "falseY": -30241100,
   "falseZ": -100000
  },
  "cols": 256
 },
 "datesInUnknownTimezone": false,
 "supportsQueryDomains": true,
 "maxSelectionCount": 2000,
 "supportedImageFormatTypes": "PNG32,PNG24,PNG,JPG,DIB,TIFF,EMF,PS,PDF,GIF,SVG,SVGZ,BMP",
 "spatialReferenceType": "pcs",
 "maxImageHeight": 4096,
 "tables": [],
 "cimVersion": "3.7.0",
 "layers": [
  {
   "subLayerIds": null,
   "maxScale": 0,
   "name": "Parcel_Lines",
   "defaultVisibility": true,
   "id": 0,
   "minScale": 0,
   "supportsDynamicLegends": true,
   "type": "Feature Layer",
   "parentLayerId": -1,
   "geometryType": "esriGeometryPolyline"
  },
  {
   "subLayerIds": null,
   "maxScale": 0,
   "name": "Parcel_Polygon",
   "defaultVisibility": true,
   "id": 1,
   "minScale": 0,
   "supportsDynamicLegends": true,
   "type": "Feature Layer",
   "parentLayerId": -1,
   "geometryType": "esriGeometryPolygon"
  },
  {
   "subLayerIds": [
    3,
    4,
    5,
    6
   ],
   "maxScale": 0,
   "name": "Governmental_Anno",
   "defaultVisibility": true,
   "id": 2,
   "minScale": 9999.9999999998927,
   "supportsDynamicLegends": false,
   "type": "Annotation Layer",
   "parentLayerId": -1,
   "geometryType": "esriGeometryPolygon"
  },
  {
   "subLayerIds": null,
   "maxScale": 0,
   "name": "Unknown",
   "defaultVisibility": true,
   "id": 3,
   "minScale": 0,
   "supportsDynamicLegends": false,
   "parentLayerId": 2
  },
  {
   "subLayerIds": null,
   "maxScale": 0,
   "name": "City",
   "defaultVisibility": true,
   "id": 4,
   "minScale": 0,
   "supportsDynamicLegends": false,
   "parentLayerId": 2
  },
  {
   "subLayerIds": null,
   "maxScale": 0,
   "name": "County Name",
   "defaultVisibility": true,
   "id": 5,
   "minScale": 0,
   "supportsDynamicLegends": false,
   "parentLayerId": 2
  },
  {
   "subLayerIds": null,
   "maxScale": 0,
   "name": "State Name",
   "defaultVisibility": true,
   "id": 6,
   "minScale": 0,
   "supportsDynamicLegends": false,
   "parentLayerId": 2
  },
  {
   "subLayerIds": null,
   "maxScale": 0,
   "name": "Landhook_Line",
   "defaultVisibility": true,
   "id": 7,
   "minScale": 0,
   "supportsDynamicLegends": true,
   "type": "Feature Layer",
   "parentLayerId": -1,
   "geometryType": "esriGeometryPolyline"
  },
  {
   "subLayerIds": null,
   "maxScale": 0,
   "name": "Lot_Lines",
   "defaultVisibility": true,
   "id": 8,
   "minScale": 0,
   "supportsDynamicLegends": true,
   "type": "Feature Layer",
   "parentLayerId": -1,
   "geometryType": "esriGeometryPolyline"
  },
  {
   "subLayerIds": [
    10,
    11,
    12,
    13,
    14,
    15,
    16
   ],
   "maxScale": 0,
   "name": "Parcel_Anno",
   "defaultVisibility": true,
   "id": 9,
   "minScale": 9999.9999999998927,
   "supportsDynamicLegends": false,
   "type": "Annotation Layer",
   "parentLayerId": -1,
   "geometryType": "esriGeometryPolygon"
  },
  {
   "subLayerIds": null,
   "maxScale": 0,
   "name": "Parcel Number",
   "defaultVisibility": true,
   "id": 10,
   "minScale": 0,
   "supportsDynamicLegends": false,
   "parentLayerId": 9
  },
  {
   "subLayerIds": null,
   "maxScale": 0,
   "name": "Conflict Text",
   "defaultVisibility": true,
   "id": 11,
   "minScale": 0,
   "supportsDynamicLegends": false,
   "parentLayerId": 9
  },
  {
   "subLayerIds": null,
   "maxScale": 0,
   "name": "Acreage",
   "defaultVisibility": true,
   "id": 12,
   "minScale": 0,
   "supportsDynamicLegends": false,
   "parentLayerId": 9
  },
  {
   "subLayerIds": null,
   "maxScale": 0,
   "name": "Dimension",
   "defaultVisibility": true,
   "id": 13,
   "minScale": 0,
   "supportsDynamicLegends": false,
   "parentLayerId": 9
  },
  {
   "subLayerIds": null,
   "maxScale": 0,
   "name": "Map Block Number",
   "defaultVisibility": true,
   "id": 14,
   "minScale": 0,
   "supportsDynamicLegends": false,
   "parentLayerId": 9
  },
  {
   "subLayerIds": null,
   "maxScale": 0,
   "name": "Unknown",
   "defaultVisibility": true,
   "id": 15,
   "minScale": 0,
   "supportsDynamicLegends": false,
   "parentLayerId": 9
  },
  {
   "subLayerIds": null,
   "maxScale": 0,
   "name": "Map Block Number Text",
   "defaultVisibility": true,
   "id": 16,
   "minScale": 0,
   "supportsDynamicLegends": false,
   "parentLayerId": 9
  },
  {
   "subLayerIds": [
    18,
    19,
    20,
    21,
    22,
    23,
    24
   ],
   "maxScale": 0,
   "name": "Subdivision_Anno",
   "defaultVisibility": true,
   "id": 17,
   "minScale": 9999.9999999998927,
   "supportsDynamicLegends": false,
   "type": "Annotation Layer",
   "parentLayerId": -1,
   "geometryType": "esriGeometryPolygon"
  },
  {
   "subLayerIds": null,
   "maxScale": 0,
   "name": "Subdivision Name",
   "defaultVisibility": true,
   "id": 18,
   "minScale": 0,
   "supportsDynamicLegends": false,
   "parentLayerId": 17
  },
  {
   "subLayerIds": null,
   "maxScale": 0,
   "name": "Book/Page Number",
   "defaultVisibility": true,
   "id": 19,
   "minScale": 0,
   "supportsDynamicLegends": false,
   "parentLayerId": 17
  },
  {
   "subLayerIds": null,
   "maxScale": 0,
   "name": "Subdivision Block Number",
   "defaultVisibility": true,
   "id": 20,
   "minScale": 0,
   "supportsDynamicLegends": false,
   "parentLayerId": 17
  },
  {
   "subLayerIds": null,
   "maxScale": 0,
   "name": "Subdivision Reference",
   "defaultVisibility": true,
   "id": 21,
   "minScale": 0,
   "supportsDynamicLegends": false,
   "parentLayerId": 17
  },
  {
   "subLayerIds": null,
   "maxScale": 0,
   "name": "Lot Number",
   "defaultVisibility": true,
   "id": 22,
   "minScale": 0,
   "supportsDynamicLegends": false,
   "parentLayerId": 17
  },
  {
   "subLayerIds": null,
   "maxScale": 0,
   "name": "Subdivision Index Number",
   "defaultVisibility": true,
   "id": 23,
   "minScale": 0,
   "supportsDynamicLegends": false,
   "parentLayerId": 17
  },
  {
   "subLayerIds": null,
   "maxScale": 0,
   "name": "Unknown",
   "defaultVisibility": true,
   "id": 24,
   "minScale": 0,
   "supportsDynamicLegends": false,
   "parentLayerId": 17
  },
  {
   "subLayerIds": null,
   "maxScale": 0,
   "name": "SubdivisionLines",
   "defaultVisibility": true,
   "id": 25,
   "minScale": 0,
   "supportsDynamicLegends": true,
   "type": "Feature Layer",
   "parentLayerId": -1,
   "geometryType": "esriGeometryPolyline"
  },
  {
   "subLayerIds": [
    27,
    28,
    29,
    30,
    31,
    32,
    33,
    34,
    35,
    36,
    37,
    38,
    39
   ],
   "maxScale": 0,
   "name": "Transportation_Anno",
   "defaultVisibility": true,
   "id": 26,
   "minScale": 9999.9999999998927,
   "supportsDynamicLegends": false,
   "type": "Annotation Layer",
   "parentLayerId": -1,
   "geometryType": "esriGeometryPolygon"
  },
  {
   "subLayerIds": null,
   "maxScale": 0,
   "name": "Unknown",
   "defaultVisibility": true,
   "id": 27,
   "minScale": 0,
   "supportsDynamicLegends": false,
   "parentLayerId": 26
  },
  {
   "subLayerIds": null,
   "maxScale": 0,
   "name": "Interstate Symbol",
   "defaultVisibility": true,
   "id": 28,
   "minScale": 0,
   "supportsDynamicLegends": false,
   "parentLayerId": 26
  },
  {
   "subLayerIds": null,
   "maxScale": 0,
   "name": "US Symbol",
   "defaultVisibility": true,
   "id": 29,
   "minScale": 0,
   "supportsDynamicLegends": false,
   "parentLayerId": 26
  },
  {
   "subLayerIds": null,
   "maxScale": 0,
   "name": "State Symbol",
   "defaultVisibility": true,
   "id": 30,
   "minScale": 0,
   "supportsDynamicLegends": false,
   "parentLayerId": 26
  },
  {
   "subLayerIds": null,
   "maxScale": 0,
   "name": "County Symbol",
   "defaultVisibility": true,
   "id": 31,
   "minScale": 0,
   "supportsDynamicLegends": false,
   "parentLayerId": 26
  },
  {
   "subLayerIds": null,
   "maxScale": 0,
   "name": "911 Symbol",
   "defaultVisibility": true,
   "id": 32,
   "minScale": 0,
   "supportsDynamicLegends": false,
   "parentLayerId": 26
  },
  {
   "subLayerIds": null,
   "maxScale": 0,
   "name": "Interstate",
   "defaultVisibility": true,
   "id": 33,
   "minScale": 0,
   "supportsDynamicLegends": false,
   "parentLayerId": 26
  },
  {
   "subLayerIds": null,
   "maxScale": 0,
   "name": "US",
   "defaultVisibility": true,
   "id": 34,
   "minScale": 0,
   "supportsDynamicLegends": false,
   "parentLayerId": 26
  },
  {
   "subLayerIds": null,
   "maxScale": 0,
   "name": "State",
   "defaultVisibility": true,
   "id": 35,
   "minScale": 0,
   "supportsDynamicLegends": false,
   "parentLayerId": 26
  },
  {
   "subLayerIds": null,
   "maxScale": 0,
   "name": "City",
   "defaultVisibility": true,
   "id": 36,
   "minScale": 0,
   "supportsDynamicLegends": false,
   "parentLayerId": 26
  },
  {
   "subLayerIds": null,
   "maxScale": 0,
   "name": "Private",
   "defaultVisibility": true,
   "id": 37,
   "minScale": 0,
   "supportsDynamicLegends": false,
   "parentLayerId": 26
  },
  {
   "subLayerIds": null,
   "maxScale": 0,
   "name": "Railroad",
   "defaultVisibility": true,
   "id": 38,
   "minScale": 0,
   "supportsDynamicLegends": false,
   "parentLayerId": 26
  },
  {
   "subLayerIds": null,
   "maxScale": 0,
   "name": "County",
   "defaultVisibility": true,
   "id": 39,
   "minScale": 0,
   "supportsDynamicLegends": false,
   "parentLayerId": 26
  }
 ],
 "archivingInfo": {
  "supportsHistoricMoment": false
 },
 "spatialReferenceDomain": {
  "ymin": -30241100,
  "xmin": -20037700,
  "ymax": 900689684374.099,
  "xmax": 900699887774.099
 },
 "spatialReference": {
  "falseM": -100000,
  "xyTolerance": 0.001,
  "mUnits": 10000,
  "zUnits": 10000,
  "latestWkid": 3857,
  "zTolerance": 0.001,
  "wkid": 102100,
  "xyUnits": 10000,
  "mTolerance": 0.001,
  "falseX": -20037700,
  "falseY": -30241100,
  "falseZ": -100000
 },
 "fullExtent": {
  "ymin": 3793731.3752177255,
  "xmin": -9576103.2364861108,
  "ymax": 3841908.6165295509,
  "xmax": -9510217.5922056343,
  "spatialReference": {
   "cs": "pcs",
   "wkid": 102100
  }
 },
 "currentVersion": 12.1,
 "hasBranchVersionedData": false,
 "referenceScale": 0,
 "supportsSpatialFilter": true,
 "maxLOD": 9,
 "initialExtent": {
  "ymin": 3741582.2679974418,
  "xmin": -9622936.37233169,
  "ymax": 3871913.2177291308,
  "xmax": -9461277.449716948,
  "spatialReference": {
   "cs": "pcs",
   "wkid": 102100
  }
 },
 "supportsTimeRelation": true,
 "documentInfo": {
  "Category": "",
  "Keywords": "Macon,alabama,Parcel Viewer",
  "Version": "3.7.0",
  "Comments": "Macon",
  "AntialiasingMode": "Fast",
  "Title": "Untitled.aprx",
  "Author": "",
  "TextAntialiasingMode": "Force",
  "Subject": "Macon"
 },
 "wmtsScaleFactor": 0.00028000000000003521,
 "geoFullExtent": {
  "ymin": 32.231456436681363,
  "xmin": -86.023598996418897,
  "ymax": 32.596809319976302,
  "xmax": -85.431738183806758
 },
 "description": "Macon",
 "units": "esriMeters",
 "supportsClipping": true,
 "exportTilesAllowed": false,
 "hasVersionedData": false,
 "supportsDatumTransformation": true,
 "supportsQueryDataElements": true,
 "mapName": "MaconCapture",
 "minScale": 577790.55428899999,
 "tileImageInfo": {
  "bandCount": 1,
  "lercError": 0,
  "format": "PNG8",
  "compressionQuality": 0
 },
 "supportedExtensions": "",
 "capabilities": "Map,Query,Data,Tilemap",
 "supportsDynamicLayers": true,
 "maxScale": 1128.4971760000001,
 "singleFusedMapCache": true,
 "storageInfo": {
  "storageFormat": "esriMapCacheStorageModeCompactV2",
  "packetSize": 128
 },
 "mapUnits": {
  "uwkid": 9001
 },
 "minLOD": 0,
 "supportedQueryFormats": "JSON, geoJSON, PBF",
 "datumTransformations": [
  {
   "geoTransforms": [
    {
     "latestWkid": 108190,
     "transformForward": false,
     "wkid": 108190,
     "name": "WGS_1984_(ITRF00)_To_NAD_1983"
    }
   ]
  }
 ],
 "serviceDescription": "Macon",
 "copyrightText": "",
 "geoInitialExtent": {
  "ymin": 31.834320922590379,
  "xmin": -86.444308213752194,
  "ymax": 32.82360049251303,
  "xmax": -84.992101403761012
 }
}
