{
 "maxImageWidth": 4096,
 "maxRecordCount": 2000,
 "tileInfo": {
  "lods": [
   {
    "level": 0,
    "scale": 577790.55428899999,
    "resolution": 152.874056570411
   },
   {
    "level": 1,
    "scale": 288895.27714399999,
    "resolution": 76.437028285073197
   },
   {
    "level": 2,
    "scale": 144447.638572,
    "resolution": 38.218514142536598
   },
   {
    "level": 3,
    "scale": 72223.819285999998,
    "resolution": 19.109257071268299
   },
   {
    "level": 4,
    "scale": 36111.909642999999,
    "resolution": 9.5546285356341496
   },
   {
    "level": 5,
    "scale": 18055.954822,
    "resolution": 4.7773142679493699
   },
   {
    "level": 6,
    "scale": 9027.9774109999998,
    "resolution": 2.38865713397468
   },
   {
    "level": 7,
    "scale": 4513.9887049999998,
    "resolution": 1.1943285668550501
   },
   {
    "level": 8,
    "scale": 2256.994353,
    "resolution": 0.59716428355981699
   },
   {
    "level": 9,
    "scale": 1128.4971760000001,
    "resolution": 0.29858214164761698
   }
  ],
  "origin": {
   "x": -20037508.342787001,
   "y": 20037508.342787001
  },
  "format": "PNG32",
  "compressionQuality": 0,
  "rows": 256,
  "dpi": 96,
  "spatialReference": {
   "falseM": -100000,
   "xyTolerance": 0.001,
   "mUnits": 10000,
   "zUnits": 10000,
   "latestWkid": 3857,
   "zTolerance": 0.001,
   "wkid": 102100,
   "xyUnits": 10000,
   "mTolerance": 0.001,
   "falseX": -20037700,
   "falseY": -30241100,
   "falseZ": -100000
  },
  "cols": 256
 },
 "datesInUnknownTimezone": false,
 "supportsQueryDomains": true,
 "maxSelectionCount": 2000,
 "supportedImageFormatTypes": "PNG32,PNG24,PNG,JPG,DIB,TIFF,EMF,PS,PDF,GIF,SVG,SVGZ,BMP",
 "spatialReferenceType": "pcs",
 "maxImageHeight": 4096,
 "tables": [],
 "cimVersion": "3.7.0",
 "layers": [
  {
   "subLayerIds": null,
   "maxScale": 0,
   "name": "Parcel_Dim_Anno_12",
   "defaultVisibility": true,
   "id": 0,
   "minScale": 4513.9887049999998,
   "supportsDynamicLegends": true,
   "type": "Feature Layer",
   "parentLayerId": -1,
   "geometryType": "esriGeometryPolygon"
  },
  {
   "subLayerIds": null,
   "maxScale": 0,
   "name": "Lot_Num_12",
   "defaultVisibility": true,
   "id": 1,
   "minScale": 4513.9887049999998,
   "supportsDynamicLegends": true,
   "type": "Feature Layer",
   "parentLayerId": -1,
   "geometryType": "esriGeometryPoint"
  },
  {
   "subLayerIds": null,
   "maxScale": 0,
   "name": "Acreage_12",
   "defaultVisibility": true,
   "id": 2,
   "minScale": 9027.9774109999998,
   "supportsDynamicLegends": true,
   "type": "Feature Layer",
   "parentLayerId": -1,
   "geometryType": "esriGeometryPoint"
  },
  {
   "subLayerIds": null,
   "maxScale": 0,
   "name": "Point_Symbols_12",
   "defaultVisibility": false,
   "id": 3,
   "minScale": 9027.9774109999998,
   "supportsDynamicLegends": true,
   "type": "Feature Layer",
   "parentLayerId": -1,
   "geometryType": "esriGeometryPoint"
  },
  {
   "subLayerIds": null,
   "maxScale": 0,
   "name": "Control_Map_12",
   "defaultVisibility": false,
   "id": 4,
   "minScale": 4513.9887049999998,
   "supportsDynamicLegends": true,
   "type": "Feature Layer",
   "parentLayerId": -1,
   "geometryType": "esriGeometryPoint"
  },
  {
   "subLayerIds": null,
   "maxScale": 0,
   "name": "Streets_12",
   "defaultVisibility": true,
   "id": 5,
   "minScale": 577790.55428899999,
   "supportsDynamicLegends": true,
   "type": "Feature Layer",
   "parentLayerId": -1,
   "geometryType": "esriGeometryPolyline"
  },
  {
   "subLayerIds": null,
   "maxScale": 0,
   "name": "Misc_Lines_12",
   "defaultVisibility": true,
   "id": 6,
   "minScale": 36111.909642999999,
   "supportsDynamicLegends": true,
   "type": "Feature Layer",
   "parentLayerId": -1,
   "geometryType": "esriGeometryPolyline"
  },
  {
   "subLayerIds": null,
   "maxScale": 0,
   "name": "Parcels_12",
   "defaultVisibility": true,
   "id": 7,
   "minScale": 577790.55428899999,
   "supportsDynamicLegends": true,
   "type": "Feature Layer",
   "parentLayerId": -1,
   "geometryType": "esriGeometryPolygon"
  },
  {
   "subLayerIds": null,
   "maxScale": 0,
   "name": "Parcel_Lines_12",
   "defaultVisibility": true,
   "id": 8,
   "minScale": 72223.819285999998,
   "supportsDynamicLegends": true,
   "type": "Feature Layer",
   "parentLayerId": -1,
   "geometryType": "esriGeometryPolyline"
  },
  {
   "subLayerIds": null,
   "maxScale": 4513.9887049999998,
   "name": "Index100_12",
   "defaultVisibility": true,
   "id": 9,
   "minScale": 577790.55428899999,
   "supportsDynamicLegends": true,
   "type": "Feature Layer",
   "parentLayerId": -1,
   "geometryType": "esriGeometryPolygon"
  },
  {
   "subLayerIds": null,
   "maxScale": 4513.9887049999998,
   "name": "Index400_12",
   "defaultVisibility": true,
   "id": 10,
   "minScale": 577790.55428899999,
   "supportsDynamicLegends": true,
   "type": "Feature Layer",
   "parentLayerId": -1,
   "geometryType": "esriGeometryPolygon"
  },
  {
   "subLayerIds": null,
   "maxScale": 0,
   "name": "Hydro_Poly_12",
   "defaultVisibility": true,
   "id": 11,
   "minScale": 577790.55428899999,
   "supportsDynamicLegends": true,
   "type": "Feature Layer",
   "parentLayerId": -1,
   "geometryType": "esriGeometryPolygon"
  },
  {
   "subLayerIds": null,
   "maxScale": 0,
   "name": "Floodway",
   "defaultVisibility": true,
   "id": 12,
   "minScale": 577790.55428899999,
   "supportsDynamicLegends": true,
   "type": "Feature Layer",
   "parentLayerId": -1,
   "geometryType": "esriGeometryPolygon"
  },
  {
   "subLayerIds": null,
   "maxScale": 4513.9887049999998,
   "name": "Trees_12",
   "defaultVisibility": false,
   "id": 13,
   "minScale": 577790.55428899999,
   "supportsDynamicLegends": true,
   "type": "Feature Layer",
   "parentLayerId": -1,
   "geometryType": "esriGeometryPolygon"
  },
  {
   "subLayerIds": null,
   "maxScale": 4513.9887049999998,
   "name": "City_12",
   "defaultVisibility": true,
   "id": 14,
   "minScale": 577790.55428899999,
   "supportsDynamicLegends": true,
   "type": "Feature Layer",
   "parentLayerId": -1,
   "geometryType": "esriGeometryPolygon"
  },
  {
   "subLayerIds": null,
   "maxScale": 4513.9887049999998,
   "name": "County_12",
   "defaultVisibility": true,
   "id": 15,
   "minScale": 577790.55428899999,
   "supportsDynamicLegends": true,
   "type": "Feature Layer",
   "parentLayerId": -1,
   "geometryType": "esriGeometryPolygon"
  }
 ],
 "archivingInfo": {
  "supportsHistoricMoment": false
 },
 "spatialReferenceDomain": {
  "ymin": -30241100,
  "xmin": -20037700,
  "ymax": 900689684374.099,
  "xmax": 900699887774.099
 },
 "spatialReference": {
  "falseM": -100000,
  "xyTolerance": 0.001,
  "mUnits": 10000,
  "zUnits": 10000,
  "latestWkid": 3857,
  "zTolerance": 0.001,
  "wkid": 102100,
  "xyUnits": 10000,
  "mTolerance": 0.001,
  "falseX": -20037700,
  "falseY": -30241100,
  "falseZ": -100000
 },
 "fullExtent": {
  "ymin": 4196119.322889206,
  "xmin": -9893257.8505443335,
  "ymax": 4245677.3832869567,
  "xmax": -9834468.8009067681,
  "spatialReference": {
   "cs": "pcs",
   "wkid": 102100
  }
 },
 "currentVersion": 12.1,
 "hasBranchVersionedData": false,
 "referenceScale": 0,
 "supportsSpatialFilter": true,
 "maxLOD": 9,
 "initialExtent": {
  "ymin": 4224610.4552945336,
  "xmin": -9864330.5593835693,
  "ymax": 4226007.8197177546,
  "xmax": -9862158.0757204611,
  "spatialReference": {
   "cs": "pcs",
   "wkid": 102100
  }
 },
 "supportsTimeRelation": true,
 "documentInfo": {
  "Category": "",
  "Keywords": "Chester,TN,Assessor,Parcel Viewer",
  "Version": "3.7.0",
  "Comments": "Chester TN Capture Map",
  "AntialiasingMode": "Fast",
  "Title": "ChesterTN",
  "Author": "",
  "TextAntialiasingMode": "Force",
  "Subject": "Chester TN Capture Map"
 },
 "wmtsScaleFactor": 0.00028000000000003521,
 "geoFullExtent": {
  "ymin": 35.236882612344878,
  "xmin": -88.87264736879419,
  "ymax": 35.599683894018831,
  "xmax": -88.344536350511333
 },
 "description": "Chester TN Capture Map",
 "units": "esriMeters",
 "supportsClipping": true,
 "exportTilesAllowed": false,
 "hasVersionedData": false,
 "supportsDatumTransformation": true,
 "supportsQueryDataElements": true,
 "mapName": "ChesterCapture",
 "minScale": 577790.55428899999,
 "tileImageInfo": {
  "bandCount": 1,
  "lercError": 0,
  "format": "PNG32",
  "compressionQuality": 0
 },
 "supportedExtensions": "",
 "capabilities": "Map,Query,Data,Tilemap",
 "supportsDynamicLayers": true,
 "maxScale": 1128.4971760000001,
 "singleFusedMapCache": true,
 "storageInfo": {
  "storageFormat": "esriMapCacheStorageModeCompactV2",
  "packetSize": 128
 },
 "mapUnits": {
  "uwkid": 9001
 },
 "minLOD": 0,
 "supportedQueryFormats": "JSON, geoJSON, PBF",
 "datumTransformations": [
  {
   "geoTransforms": [
    {
     "latestWkid": 108190,
     "transformForward": false,
     "wkid": 108190,
     "name": "WGS_1984_(ITRF00)_To_NAD_1983"
    }
   ]
  },
  {
   "geoTransforms": [
    {
     "latestWkid": 108190,
     "transformForward": true,
     "wkid": 108190,
     "name": "WGS_1984_(ITRF00)_To_NAD_1983"
    }
   ]
  }
 ],
 "serviceDescription": " Chester TN Capture Map<\/span><\/p><\/div>",
 "copyrightText": "",
 "geoInitialExtent": {
  "ymin": 35.445658211222366,
  "xmin": -88.612789091015287,
  "ymax": 35.455883849497738,
  "xmax": -88.593273338224591
 }
}
